BEGIN:VCALENDAR
VERSION:2.0
PRODID:-// - ECPv6.15.20//NONSGML v1.0//EN
CALSCALE:GREGORIAN
METHOD:PUBLISH
X-ORIGINAL-URL:https://trainsoundphoto.com
X-WR-CALDESC:Events for 
REFRESH-INTERVAL;VALUE=DURATION:PT1H
X-Robots-Tag:noindex
X-PUBLISHED-TTL:PT1H
BEGIN:VTIMEZONE
TZID:America/Chicago
BEGIN:DAYLIGHT
TZOFFSETFROM:-0600
TZOFFSETTO:-0500
TZNAME:CDT
DTSTART:20250309T080000
END:DAYLIGHT
BEGIN:STANDARD
TZOFFSETFROM:-0500
TZOFFSETTO:-0600
TZNAME:CST
DTSTART:20251102T070000
END:STANDARD
BEGIN:DAYLIGHT
TZOFFSETFROM:-0600
TZOFFSETTO:-0500
TZNAME:CDT
DTSTART:20260308T080000
END:DAYLIGHT
BEGIN:STANDARD
TZOFFSETFROM:-0500
TZOFFSETTO:-0600
TZNAME:CST
DTSTART:20261101T070000
END:STANDARD
BEGIN:DAYLIGHT
TZOFFSETFROM:-0600
TZOFFSETTO:-0500
TZNAME:CDT
DTSTART:20270314T080000
END:DAYLIGHT
BEGIN:STANDARD
TZOFFSETFROM:-0500
TZOFFSETTO:-0600
TZNAME:CST
DTSTART:20271107T070000
END:STANDARD
END:VTIMEZONE
BEGIN:VEVENT
DTSTART;VALUE=DATE:20260425
DTEND;VALUE=DATE:20260426
DTSTAMP:20260425T171132
CREATED:20220908T132245Z
LAST-MODIFIED:20250428T212822Z
UID:10000134-1777075200-1777161599@trainsoundphoto.com
SUMMARY:022-115
DESCRIPTION:Train Photo View… \n \nTrain Sounds…Click Button Above \nTrain Video…Click Button Below \n\nscenic-view-of-the-amsterdam-central-station
URL:https://trainsoundphoto.com/event/022-115/
LOCATION:Train Photos & Sounds
ATTACH;FMTTYPE=image/jpeg:https://trainsoundphoto.com/wp-content/uploads/2022/09/164_dngtojpg_111021_1056am__22-115.jpg
END:VEVENT
BEGIN:VEVENT
DTSTART;VALUE=DATE:20260426
DTEND;VALUE=DATE:20260427
DTSTAMP:20260425T171132
CREATED:20220908T132421Z
LAST-MODIFIED:20260320T232359Z
UID:10000135-1777161600-1777247999@trainsoundphoto.com
SUMMARY:200-116
DESCRIPTION:Train Photo View… \n \nTrain Sounds…Click Button Above \nTrain Video…Click Button Below \n\naerial-shot-train-passing-by-large-industrial-plant
URL:https://trainsoundphoto.com/event/200-116/
ATTACH;FMTTYPE=image/jpeg:https://trainsoundphoto.com/wp-content/uploads/2022/09/164_dngtojpg_111021_1056am__200-116.jpg
END:VEVENT
BEGIN:VEVENT
DTSTART;VALUE=DATE:20260427
DTEND;VALUE=DATE:20260428
DTSTAMP:20260425T171132
CREATED:20220908T132540Z
LAST-MODIFIED:20250428T212910Z
UID:10000136-1777248000-1777334399@trainsoundphoto.com
SUMMARY:113-117
DESCRIPTION:Train Photo View… \n \nTrain Sounds…Click Button Above \nTrain Video…Click Button Below \n\naerial-view-of-the-train-going-through-the-mountainous-terrain-in-winter
URL:https://trainsoundphoto.com/event/113-117/
LOCATION:Train Photos & Sounds
ATTACH;FMTTYPE=image/jpeg:https://trainsoundphoto.com/wp-content/uploads/2022/09/164_dngtojpg_111021_1056am__113-117.jpg
END:VEVENT
BEGIN:VEVENT
DTSTART;VALUE=DATE:20260428
DTEND;VALUE=DATE:20260429
DTSTAMP:20260425T171132
CREATED:20220908T132700Z
LAST-MODIFIED:20251001T231958Z
UID:10000137-1777334400-1777420799@trainsoundphoto.com
SUMMARY:023-118
DESCRIPTION:Train Photo View… \n \nTrain Sounds…Click Button Above \nTrain Video…Click Button Below \n\nepic-sunrise-view-over-manhattan-bridge-in-new-york-city-usa-with-the-train-going over
URL:https://trainsoundphoto.com/event/023-118/
LOCATION:Train Photos & Sounds
ATTACH;FMTTYPE=image/jpeg:https://trainsoundphoto.com/wp-content/uploads/2022/09/164_dngtojpg_111021_1056am__23-118.jpg
END:VEVENT
BEGIN:VEVENT
DTSTART;VALUE=DATE:20260429
DTEND;VALUE=DATE:20260430
DTSTAMP:20260425T171132
CREATED:20220908T132821Z
LAST-MODIFIED:20251001T232049Z
UID:10000138-1777420800-1777507199@trainsoundphoto.com
SUMMARY:019-119
DESCRIPTION:Train Photo View… \n \nTrain Sounds…Click Button Above \nTrain Video…Click Button Below \n\ndrone-flying-above-glacier-express-train-on-famous-historic-landwasser-viaduct-bride
URL:https://trainsoundphoto.com/event/019-119/
LOCATION:Train Photos & Sounds
ATTACH;FMTTYPE=image/jpeg:https://trainsoundphoto.com/wp-content/uploads/2022/09/164_dngtojpg_111021_1056am__19-119.jpg
END:VEVENT
BEGIN:VEVENT
DTSTART;VALUE=DATE:20260430
DTEND;VALUE=DATE:20260501
DTSTAMP:20260425T171132
CREATED:20220908T132939Z
LAST-MODIFIED:20251001T232116Z
UID:10000139-1777507200-1777593599@trainsoundphoto.com
SUMMARY:164-120
DESCRIPTION:Train Photo View… \n \nTrain Sounds…Click Button Above \nTrain Video…Click Button Below \n\nsunset-time-lapse-above-tokyo-station-in-japan
URL:https://trainsoundphoto.com/event/164-120/
LOCATION:Train Photos & Sounds
ATTACH;FMTTYPE=image/jpeg:https://trainsoundphoto.com/wp-content/uploads/2022/09/164_dngtojpg_111021_1056am__164-120.jpg
END:VEVENT
BEGIN:VEVENT
DTSTART;VALUE=DATE:20260501
DTEND;VALUE=DATE:20260502
DTSTAMP:20260425T171132
CREATED:20220908T133234Z
LAST-MODIFIED:20251001T232146Z
UID:10000140-1777593600-1777679999@trainsoundphoto.com
SUMMARY:087-121
DESCRIPTION:Train Photo View… \n \nTrain Sounds…Click Button Above \nTrain Video…Click Button Below \n\naerial-drone-shot-over-a-train-in-ulan-bator-train-station-mongolia
URL:https://trainsoundphoto.com/event/087-121/
LOCATION:Train Photos & Sounds
ATTACH;FMTTYPE=image/jpeg:https://trainsoundphoto.com/wp-content/uploads/2022/09/164_dngtojpg_111021_1056am__87-121.jpg
END:VEVENT
BEGIN:VEVENT
DTSTART;VALUE=DATE:20260502
DTEND;VALUE=DATE:20260503
DTSTAMP:20260425T171132
CREATED:20220908T133425Z
LAST-MODIFIED:20251001T232214Z
UID:10000141-1777680000-1777766399@trainsoundphoto.com
SUMMARY:091-122
DESCRIPTION:Train Photo View… \n \nTrain Sounds…Click Button Above \nTrain Video…Click Button Below \n\nsubway-train-driving-on-bridge-railway-over-winter-river-in-city-aerial-view-metro
URL:https://trainsoundphoto.com/event/091-122/
LOCATION:Train Photos & Sounds
ATTACH;FMTTYPE=image/jpeg:https://trainsoundphoto.com/wp-content/uploads/2022/09/164_dngtojpg_111021_1056am__91-122.jpg
END:VEVENT
BEGIN:VEVENT
DTSTART;VALUE=DATE:20260503
DTEND;VALUE=DATE:20260504
DTSTAMP:20260425T171132
CREATED:20220908T133552Z
LAST-MODIFIED:20251001T232245Z
UID:10000142-1777766400-1777852799@trainsoundphoto.com
SUMMARY:151-123
DESCRIPTION:Train Photo View… \n \nTrain Sounds…Click Button Above \nTrain Video…Click Button Below \n\naerial-top-view-of-high-speed-train-departs-from-the-station-high-speed-railway
URL:https://trainsoundphoto.com/event/151-123/
LOCATION:Train Photos & Sounds
ATTACH;FMTTYPE=image/jpeg:https://trainsoundphoto.com/wp-content/uploads/2022/09/164_dngtojpg_111021_1056am__151-123.jpg
END:VEVENT
BEGIN:VEVENT
DTSTART;VALUE=DATE:20260504
DTEND;VALUE=DATE:20260505
DTSTAMP:20260425T171132
CREATED:20220908T133710Z
LAST-MODIFIED:20251001T232312Z
UID:10000143-1777852800-1777939199@trainsoundphoto.com
SUMMARY:199-124
DESCRIPTION:Train Photo View… \n \nTrain Sounds…Click Button Above \nTrain Video…Click Button Below \n\naerial-view-of-the-funicular-urban-public-transport-tourist-attraction
URL:https://trainsoundphoto.com/event/199-124/
LOCATION:Train Photos & Sounds
ATTACH;FMTTYPE=image/jpeg:https://trainsoundphoto.com/wp-content/uploads/2022/09/164_dngtojpg_111021_1056am__199-124.jpg
END:VEVENT
BEGIN:VEVENT
DTSTART;VALUE=DATE:20260505
DTEND;VALUE=DATE:20260506
DTSTAMP:20260425T171132
CREATED:20220908T133830Z
LAST-MODIFIED:20251001T232338Z
UID:10000144-1777939200-1778025599@trainsoundphoto.com
SUMMARY:145-125
DESCRIPTION:Train Photo View… \n \nTrain Sounds…Click Button Above \nTrain Video…Click Button Below \n\naerial-freight-train-box-cars-flyover-nashville-tennessee-tracks-following-circle
URL:https://trainsoundphoto.com/event/145-125/
LOCATION:Train Photos & Sounds
ATTACH;FMTTYPE=image/jpeg:https://trainsoundphoto.com/wp-content/uploads/2022/09/164_dngtojpg_111021_1056am__145-125.jpg
END:VEVENT
BEGIN:VEVENT
DTSTART;VALUE=DATE:20260506
DTEND;VALUE=DATE:20260507
DTSTAMP:20260425T171132
CREATED:20220908T133953Z
LAST-MODIFIED:20251001T232406Z
UID:10000145-1778025600-1778111999@trainsoundphoto.com
SUMMARY:156-126
DESCRIPTION:Train Photo View… \n \nTrain Sounds…Click Button Above \nTrain Video…Click Button Below \n\nkansas-city-ks-november-06-aerial-pan-view-of-a-frieght-train-traveling-through-rural
URL:https://trainsoundphoto.com/event/156-126/
LOCATION:Train Photos & Sounds
ATTACH;FMTTYPE=image/jpeg:https://trainsoundphoto.com/wp-content/uploads/2022/09/164_dngtojpg_111021_1056am__156-126.jpg
END:VEVENT
BEGIN:VEVENT
DTSTART;VALUE=DATE:20260507
DTEND;VALUE=DATE:20260508
DTSTAMP:20260425T171132
CREATED:20220908T134108Z
LAST-MODIFIED:20251001T232433Z
UID:10000146-1778112000-1778198399@trainsoundphoto.com
SUMMARY:075-127
DESCRIPTION:Train Photo View… \n \nTrain Sounds…Click Button Above \nTrain Video…Click Button Below \n\naerial-view-of-the-train-going-through-the-mountainous-terrain-in-winter
URL:https://trainsoundphoto.com/event/075-127/
LOCATION:Train Photos & Sounds
ATTACH;FMTTYPE=image/jpeg:https://trainsoundphoto.com/wp-content/uploads/2022/09/164_dngtojpg_111021_1056am__75-127.jpg
END:VEVENT
BEGIN:VEVENT
DTSTART;VALUE=DATE:20260508
DTEND;VALUE=DATE:20260509
DTSTAMP:20260425T171132
CREATED:20220908T134621Z
LAST-MODIFIED:20251001T233758Z
UID:10000147-1778198400-1778284799@trainsoundphoto.com
SUMMARY:048-128
DESCRIPTION:Train Photo View… \n \nTrain Sounds…Click Button Above \nTrain Video…Click Button Below \n\naerial-view-of-fast-passenger-train-driving-on-railroad-high-angle-view-of-passing
URL:https://trainsoundphoto.com/event/048-128/
LOCATION:Train Photos & Sounds
ATTACH;FMTTYPE=image/jpeg:https://trainsoundphoto.com/wp-content/uploads/2022/09/164_dngtojpg_111021_1056am__48-128.jpg
END:VEVENT
BEGIN:VEVENT
DTSTART;VALUE=DATE:20260509
DTEND;VALUE=DATE:20260510
DTSTAMP:20260425T171132
CREATED:20220908T134806Z
LAST-MODIFIED:20251001T233835Z
UID:10000148-1778284800-1778371199@trainsoundphoto.com
SUMMARY:141-129
DESCRIPTION:Train Photo View… \n \nTrain Sounds…Click Button Above \nTrain Video…Click Button Below \n\naerial-shot-of-amtrak-train-and-desert-town
URL:https://trainsoundphoto.com/event/141-129/
LOCATION:Train Photos & Sounds
ATTACH;FMTTYPE=image/jpeg:https://trainsoundphoto.com/wp-content/uploads/2022/09/164_dngtojpg_111021_1056am__141-129.jpg
END:VEVENT
BEGIN:VEVENT
DTSTART;VALUE=DATE:20260510
DTEND;VALUE=DATE:20260511
DTSTAMP:20260425T171132
CREATED:20220908T134948Z
LAST-MODIFIED:20251001T233907Z
UID:10000149-1778371200-1778457599@trainsoundphoto.com
SUMMARY:005-130
DESCRIPTION:Train Photo View… \n \nTrain Sounds…Click Button Above \nTrain Video…Click Button Below \n\naerial-of-train-through-snowy-forest
URL:https://trainsoundphoto.com/event/005-130/
LOCATION:Train Photos & Sounds
ATTACH;FMTTYPE=image/jpeg:https://trainsoundphoto.com/wp-content/uploads/2022/09/164_dngtojpg_111021_1056am__5-130.jpg
END:VEVENT
BEGIN:VEVENT
DTSTART;VALUE=DATE:20260511
DTEND;VALUE=DATE:20260512
DTSTAMP:20260425T171132
CREATED:20220908T135111Z
LAST-MODIFIED:20251001T233939Z
UID:10000150-1778457600-1778543999@trainsoundphoto.com
SUMMARY:190-131
DESCRIPTION:Train Photo View… \n \nTrain Sounds…Click Button Above \nTrain Video…Click Button Below \n\ntrain-track-passenger-train-aerial-view-of-public-transport-infrastructure-in-a-type
URL:https://trainsoundphoto.com/event/190-131/
LOCATION:Train Photos & Sounds
ATTACH;FMTTYPE=image/jpeg:https://trainsoundphoto.com/wp-content/uploads/2022/09/164_dngtojpg_111021_1056am__190-131.jpg
END:VEVENT
BEGIN:VEVENT
DTSTART;VALUE=DATE:20260512
DTEND;VALUE=DATE:20260513
DTSTAMP:20260425T171132
CREATED:20220908T135238Z
LAST-MODIFIED:20251001T234137Z
UID:10000151-1778544000-1778630399@trainsoundphoto.com
SUMMARY:168-132
DESCRIPTION:Train Photo View… \n \nTrain Sounds…Click Button Above \nTrain Video…Click Button Below \n\nview-from-the-height-of-the-railway-bridge-on-which-the-train-is-passing-at-sunset
URL:https://trainsoundphoto.com/event/168-132/
LOCATION:Train Photos & Sounds
ATTACH;FMTTYPE=image/jpeg:https://trainsoundphoto.com/wp-content/uploads/2022/09/164_dngtojpg_111021_1056am__168-132.jpg
END:VEVENT
BEGIN:VEVENT
DTSTART;VALUE=DATE:20260513
DTEND;VALUE=DATE:20260514
DTSTAMP:20260425T171132
CREATED:20220908T135400Z
LAST-MODIFIED:20251001T234319Z
UID:10000152-1778630400-1778716799@trainsoundphoto.com
SUMMARY:146-133
DESCRIPTION:Train Photo View… \n \nTrain Sounds…Click Button Above \nTrain Video…Click Button Below \n\naerial-view-of-fast-passenger-train-driving-on-railroad-high-angle-view-of-passing
URL:https://trainsoundphoto.com/event/146-133/
LOCATION:Train Photos & Sounds
ATTACH;FMTTYPE=image/jpeg:https://trainsoundphoto.com/wp-content/uploads/2022/09/164_dngtojpg_111021_1056am__146-133.jpg
END:VEVENT
BEGIN:VEVENT
DTSTART;VALUE=DATE:20260514
DTEND;VALUE=DATE:20260515
DTSTAMP:20260425T171132
CREATED:20220908T135545Z
LAST-MODIFIED:20251001T234543Z
UID:10000153-1778716800-1778803199@trainsoundphoto.com
SUMMARY:143-134
DESCRIPTION:Train Photo View… \n \nTrain Sounds…Click Button Above \nTrain Video…Click Button Below \n\nelectric-locomotive-with-freight-cars-or-railway-wagon-rides-on-railroad-transportation
URL:https://trainsoundphoto.com/event/143-134/
LOCATION:Train Photos & Sounds
ATTACH;FMTTYPE=image/jpeg:https://trainsoundphoto.com/wp-content/uploads/2022/09/164_dngtojpg_111021_1056am__143-134.jpg
END:VEVENT
BEGIN:VEVENT
DTSTART;VALUE=DATE:20260515
DTEND;VALUE=DATE:20260516
DTSTAMP:20260425T171132
CREATED:20220908T135800Z
LAST-MODIFIED:20251001T234619Z
UID:10000154-1778803200-1778889599@trainsoundphoto.com
SUMMARY:020-135
DESCRIPTION:Train Photo View… \n \nTrain Sounds…Click Button Above \nTrain Video…Click Button Below \n\npelham-train-station
URL:https://trainsoundphoto.com/event/020-135/
LOCATION:Train Photos & Sounds
ATTACH;FMTTYPE=image/jpeg:https://trainsoundphoto.com/wp-content/uploads/2022/09/164_dngtojpg_111021_1056am__20-135.jpg
END:VEVENT
BEGIN:VEVENT
DTSTART;VALUE=DATE:20260516
DTEND;VALUE=DATE:20260517
DTSTAMP:20260425T171132
CREATED:20220908T135924Z
LAST-MODIFIED:20251001T234649Z
UID:10000155-1778889600-1778975999@trainsoundphoto.com
SUMMARY:140-136
DESCRIPTION:Train Photo View… \n \nTrain Sounds…Click Button Above \nTrain Video…Click Button Below \n\nsubway-train-driving-on-bridge-railway-over-winter-river-in-city-aerial-view-metro
URL:https://trainsoundphoto.com/event/140-136/
LOCATION:Train Photos & Sounds
ATTACH;FMTTYPE=image/jpeg:https://trainsoundphoto.com/wp-content/uploads/2022/09/164_dngtojpg_111021_1056am__140-136.jpg
END:VEVENT
BEGIN:VEVENT
DTSTART;VALUE=DATE:20260517
DTEND;VALUE=DATE:20260518
DTSTAMP:20260425T171132
CREATED:20220908T140114Z
LAST-MODIFIED:20251001T234726Z
UID:10000156-1778976000-1779062399@trainsoundphoto.com
SUMMARY:010-137
DESCRIPTION:Train Photo View… \n \nTrain Sounds…Click Button Above \nTrain Video…Click Button Below \n\nan-old-train-travels-on-a-railway-laid-in-the-water-across-a-salt-lake-aerial-view
URL:https://trainsoundphoto.com/event/010-137/
LOCATION:Train Photos & Sounds
ATTACH;FMTTYPE=image/jpeg:https://trainsoundphoto.com/wp-content/uploads/2022/09/164_dngtojpg_111021_1056am__10-137.jpg
END:VEVENT
BEGIN:VEVENT
DTSTART;VALUE=DATE:20260518
DTEND;VALUE=DATE:20260519
DTSTAMP:20260425T171132
CREATED:20220908T140237Z
LAST-MODIFIED:20251001T234802Z
UID:10000157-1779062400-1779148799@trainsoundphoto.com
SUMMARY:007-138
DESCRIPTION:Train Photo View… \n \nTrain Sounds…Click Button Above \nTrain Video…Click Button Below \n\npittsburgh-pa-circa-january-2018-a-slowly-forward-rising-aerial
URL:https://trainsoundphoto.com/event/007-138/
LOCATION:Train Photos & Sounds
ATTACH;FMTTYPE=image/jpeg:https://trainsoundphoto.com/wp-content/uploads/2022/09/164_dngtojpg_111021_1056am__7-138.jpg
END:VEVENT
BEGIN:VEVENT
DTSTART;VALUE=DATE:20260519
DTEND;VALUE=DATE:20260520
DTSTAMP:20260425T171132
CREATED:20220908T140404Z
LAST-MODIFIED:20251001T234842Z
UID:10000158-1779148800-1779235199@trainsoundphoto.com
SUMMARY:008-139
DESCRIPTION:Train Photo View… \n \nTrain Sounds…Click Button Above \nTrain Video…Click Button Below \n\nview-from-the-height-of-the-railway-bridge-on-which-the-train-is-passing-at-sunset
URL:https://trainsoundphoto.com/event/008-139/
LOCATION:Train Photos & Sounds
ATTACH;FMTTYPE=image/jpeg:https://trainsoundphoto.com/wp-content/uploads/2022/09/164_dngtojpg_111021_1056am__8-139.jpg
END:VEVENT
BEGIN:VEVENT
DTSTART;VALUE=DATE:20260520
DTEND;VALUE=DATE:20260521
DTSTAMP:20260425T171132
CREATED:20220908T140529Z
LAST-MODIFIED:20251001T234913Z
UID:10000159-1779235200-1779321599@trainsoundphoto.com
SUMMARY:142-140
DESCRIPTION:Train Photo View… \n \nTrain Sounds…Click Button Above \nTrain Video…Click Button Below \n\ntrain-track-passenger-train-aerial-view-of-public-transport-infrastructure
URL:https://trainsoundphoto.com/event/142-140/
LOCATION:Train Photos & Sounds
ATTACH;FMTTYPE=image/jpeg:https://trainsoundphoto.com/wp-content/uploads/2022/09/164_dngtojpg_111021_1056am__142-140.jpg
END:VEVENT
BEGIN:VEVENT
DTSTART;VALUE=DATE:20260521
DTEND;VALUE=DATE:20260522
DTSTAMP:20260425T171132
CREATED:20220908T140701Z
LAST-MODIFIED:20251001T235034Z
UID:10000160-1779321600-1779407999@trainsoundphoto.com
SUMMARY:046-141
DESCRIPTION:Train Photo View… \n \nTrain Sounds…Click Button Above \nTrain Video…Click Button Below \n\naerial-view-of-train-passing-through-garden-city-long-island
URL:https://trainsoundphoto.com/event/046-141/
LOCATION:Train Photos & Sounds
ATTACH;FMTTYPE=image/jpeg:https://trainsoundphoto.com/wp-content/uploads/2022/09/164_dngtojpg_111021_1056am__46-141.jpg
END:VEVENT
BEGIN:VEVENT
DTSTART;VALUE=DATE:20260522
DTEND;VALUE=DATE:20260523
DTSTAMP:20260425T171132
CREATED:20220908T140832Z
LAST-MODIFIED:20251001T235106Z
UID:10000161-1779408000-1779494399@trainsoundphoto.com
SUMMARY:144-142
DESCRIPTION:Train Photo View… \n \nTrain Sounds…Click Button Above \nTrain Video…Click Button Below \n\nview-of-4th-avenue-9th-street-subway-station
URL:https://trainsoundphoto.com/event/144-142/
LOCATION:Train Photos & Sounds
ATTACH;FMTTYPE=image/jpeg:https://trainsoundphoto.com/wp-content/uploads/2022/09/164_dngtojpg_111021_1056am__144-142.jpg
END:VEVENT
BEGIN:VEVENT
DTSTART;VALUE=DATE:20260523
DTEND;VALUE=DATE:20260524
DTSTAMP:20260425T171132
CREATED:20220908T141001Z
LAST-MODIFIED:20251001T235139Z
UID:10000162-1779494400-1779580799@trainsoundphoto.com
SUMMARY:081-143
DESCRIPTION:Train Photo View… \n \nTrain Sounds…Click Button Above \nTrain Video…Click Button Below \n\nsubway-trains-coming-and-going-into-4th-avenue-9th-street-station
URL:https://trainsoundphoto.com/event/081-143/
LOCATION:Train Photos & Sounds
ATTACH;FMTTYPE=image/jpeg:https://trainsoundphoto.com/wp-content/uploads/2022/09/164_dngtojpg_111021_1056am__81-143.jpg
END:VEVENT
BEGIN:VEVENT
DTSTART;VALUE=DATE:20260524
DTEND;VALUE=DATE:20260525
DTSTAMP:20260425T171132
CREATED:20220908T141126Z
LAST-MODIFIED:20251001T235220Z
UID:10000163-1779580800-1779667199@trainsoundphoto.com
SUMMARY:009-144
DESCRIPTION:Train Photo View… \n \nTrain Sounds…Click Button Above \nTrain Video…Click Button Below \n\naerial-shot-of-amtrak-train-in-desert-with-mountains
URL:https://trainsoundphoto.com/event/009-144/
LOCATION:Train Photos & Sounds
ATTACH;FMTTYPE=image/jpeg:https://trainsoundphoto.com/wp-content/uploads/2022/09/164_dngtojpg_111021_1056am__9-144.jpg
END:VEVENT
END:VCALENDAR